BEGIN:VCALENDAR
VERSION:2.0
PRODID:-//sopadeparticulas.com - ECPv6.8.2.1//NONSGML v1.0//EN
CALSCALE:GREGORIAN
METHOD:PUBLISH
X-WR-CALNAME:sopadeparticulas.com
X-ORIGINAL-URL:https://www.sopadeparticulas.com
X-WR-CALDESC:Eventos para sopadeparticulas.com
REFRESH-INTERVAL;VALUE=DURATION:PT1H
X-Robots-Tag:noindex
X-PUBLISHED-TTL:PT1H
BEGIN:VTIMEZONE
TZID:UTC
BEGIN:STANDARD
TZOFFSETFROM:+0000
TZOFFSETTO:+0000
TZNAME:UTC
DTSTART:20240101T000000
END:STANDARD
END:VTIMEZONE
BEGIN:VEVENT
DTSTART;TZID=UTC:20241211T190000
DTEND;TZID=UTC:20241211T210000
DTSTAMP:20260426T022210
CREATED:20240906T221721Z
LAST-MODIFIED:20240906T221748Z
UID:5129-1733943600-1733950800@www.sopadeparticulas.com
SUMMARY:Descobrint un nou complex invasor a la conca mediterrània
DESCRIPTION:La proliferació de les espècies invasores representa una de les principals amenaces per a la biodiversitat a escala global. En aquest context\, el comerç de plantes ornamentals ha emergit com un dels vectors més importants d’introducció d’espècies exòtiques invasores en nous ecosistemes. Entre aquestes espècies\, la Kalanchoe ×houghtonii ha cridat l’atenció dels investigadors per la seva capacitat d’adaptació i dispersió ràpida en diversos ambients mediterranis. \nConsiderada un híbrid artificial originat a partir del creuament entre K. daigremontiana i K. tubiflora\, la Kalanchoe ×houghtonii presenta una complexitat genètica notable\, amb almenys quatre morfotips diferenciats. Mentre que dos d’aquests morfotips tenen un origen sintètic conegut\, els altres dos podrien haver sorgit de manera natural a través del flux genètic entre poblacions simpàtriques dels progenitors. \nQuines qüestions clau abordarem en aquesta presentació? \n\nCapacitat invasora i diversitat genètica: Explorarem la relació entre la variabilitat genètica de la Kalanchoe ×houghtonii i la seva capacitat d’invadir i colonitzar nous hàbitats. Aquesta connexió ens permetrà comprendre millor els mecanismes que afavoreixen el seu èxit invasor.\nOrigen i evolució: Investigarem en profunditat l’origen i l’evolució dels diferents morfotips de Kalanchoe ×houghtonii\, desxifrant els processos genètics i ambientals que han conduït a la seva diversificació.\nImpacte ecològic: Avaluarem les conseqüències ecològiques de la invasió de la Kalanchoe ×houghtonii en els ecosistemes mediterranis\, analitzant els seus efectes sobre la vegetació nativa\, la fauna i els cicles biogeoquímics.\nEines citogenòmiques: Presentarem les darreres eines citogenòmiques que estem utilitzant per estudiar la Kalanchoe ×houghtonii. Aquestes eines ens permeten obtenir una visió més completa del genoma d’aquesta espècie i identificar els gens i les regions genòmiques associades a la seva capacitat invasora.\n\nPer què és important estudiar la Kalanchoe ×houghtonii? \nComprendre els mecanismes que governen la invasió de la Kalanchoe ×houghtonii és crucial per desenvolupar estratègies efectives de gestió i control. A més\, l’estudi d’aquesta espècie ens proporciona una valuosa oportunitat per aprofundir en els processos evolutius que donen lloc a l’emergència de noves espècies invasores. \nPonent: Joan Pere Pascual.
URL:https://www.sopadeparticulas.com/event/descobrint-un-nou-complex-invasor-a-la-conca-mediterrania/
LOCATION:Centre Cívic el Guinardó\, Ronda del Guinardó\, 113\, 08041 Barcelona\, Barcelona\, Barcelona\, 08041\, Espanya
CATEGORIES:Charlas.N
ATTACH;FMTTYPE=image/jpeg:https://www.sopadeparticulas.com/wp-content/uploads/2024/09/11-12-24_1280x851.jpg
ORGANIZER;CN="Sopa de part%C3%ADculas":MAILTO:info@sopadeparticulas.com
END:VEVENT
BEGIN:VEVENT
DTSTART;TZID=UTC:20250129T190000
DTEND;TZID=UTC:20250129T210000
DTSTAMP:20260426T022210
CREATED:20241123T233352Z
LAST-MODIFIED:20250131T193959Z
UID:5141-1738177200-1738184400@www.sopadeparticulas.com
SUMMARY:Super Simetria: Més Enllà del Model Estàndard
DESCRIPTION:Data: ⚡ dimecres\, 29 de gener de 2025 [19:00h⏰] \nLloc: Centre Cívic de Guinardó \nPonent: Saül Pascual-Diaz \nI si tot tingués un bessó invisible? Desvela els secrets de la supersimetria \nImagina’t un univers on cada partícula té la seva ombra\, el seu jo oposat\, com en un mirall còsmic! Això és la supersimetria\, una teoria que podria canviar tot el que sabem sobre l’univers. \nSaül Pascual-Diaz ens portarà de viatge a través de les partícules elementals per descobrir: \n\nPer què el Model Estàndard no ho explica tot.\nCom la supersimetria podria ser la clau per entendre la matèria fosca i altres misteris còsmics.\nQuè busquen els científics als grans acceleradors de partícules com el LHC.\n\nSi ets dels que sempre s’ha preguntat de què està fet tot i com funciona l’univers\, aquesta xerrada és per a tu! \nA més\, podràs fer totes les preguntes que vulguis i debatre amb altres curiosos com tu. \nNo t’ho perdis! Apunta’t i vine a flipar amb nosaltres. \n#Supersimetría #Física #Ciència #Univers \n¿Per què venir? \n\nPerquè és super guai: Descobriràs un món invisible que podria canviar tot el que saps.\nPerquè estaràs a l’última: Estaràs al dia de les últimes investigacions científiques.\nPerquè mola molt: La ciència pot ser molt divertida i aquesta xerrada ho demostra.\n\nNo ho dubtis més i vine a passar-ho bé! \n[Inscriu-te aquí] \n#CentreCívicGuinardó #DivulgacióCientífica
URL:https://www.sopadeparticulas.com/event/super-simetria-mes-enlla-del-model-estandard/
LOCATION:Centre Cívic el Guinardó\, Ronda del Guinardó\, 113\, 08041 Barcelona\, Barcelona\, Barcelona\, 08041\, Espanya
CATEGORIES:Charlas.O
ATTACH;FMTTYPE=image/jpeg:https://www.sopadeparticulas.com/wp-content/uploads/2024/11/SuperSimetria_1280x851.jpg
ORGANIZER;CN="Sopa de part%C3%ADculas":MAILTO:info@sopadeparticulas.com
END:VEVENT
BEGIN:VEVENT
DTSTART;TZID=UTC:20250213T190000
DTEND;TZID=UTC:20250213T203000
DTSTAMP:20260426T022210
CREATED:20241204T214243Z
LAST-MODIFIED:20241204T214243Z
UID:5155-1739473200-1739478600@www.sopadeparticulas.com
SUMMARY:L'Univers en un llapis USB
DESCRIPTION:Data: ⚡ dijous\, 13 de febrer de 2025 [19:00h⏰]\nTítol: L’Univers a la teva butxaca: crea el teu propi cosmos en un USB\nPonent: Toni Bertólez.\nResum:\nSempre has somiat a crear el teu propi univers? Ara\, gràcies a la cosmologia computacional\, això és possible! En aquesta xerrada\, en Toni Bertólez ens portarà de viatge a través dels codis que ens permeten simular el cosmos en un simple dispositiu USB. Descobreix com els científics utilitzen aquestes eines per explorar els misteris de l’univers i posar a prova teories sobre la matèria fosca i l’energia fosca. Prepara’t per quedar-te meravellat amb les possibilitats de la ciència i la tecnologia! \nPer què assistir? \n\nDescobreix com funciona la simulació còsmica: Aprèn a crear els teus propis universos virtuals i a comprendre els processos que els governen.\nExplora els misteris del cosmos: Submergeix-te en el fascinant món de la cosmologia i descobreix les últimes investigacions sobre la naturalesa de l’univers.\nDesperta la teva curiositat científica: Aquesta xerrada és una oportunitat única per aprendre sobre ciència d’una manera divertida i accessible.\n\n 
URL:https://www.sopadeparticulas.com/event/lunivers-en-un-llapis-usb/
LOCATION:Centre Cívic el Guinardó\, Ronda del Guinardó\, 113\, 08041 Barcelona\, Barcelona\, Barcelona\, 08041\, Espanya
CATEGORIES:Charlas.N
ATTACH;FMTTYPE=image/jpeg:https://www.sopadeparticulas.com/wp-content/uploads/2024/12/supernova_1280_851.jpg
ORGANIZER;CN="Sopa de part%C3%ADculas":MAILTO:info@sopadeparticulas.com
END:VEVENT
BEGIN:VEVENT
DTSTART;TZID=UTC:20250226T190000
DTEND;TZID=UTC:20250226T210000
DTSTAMP:20260426T022210
CREATED:20241124T000448Z
LAST-MODIFIED:20250224T070435Z
UID:5146-1740596400-1740603600@www.sopadeparticulas.com
SUMMARY:Un viatge d'anada cap a l'eterna foscor
DESCRIPTION:26 de febrer\, 19:00 Ateneu Poblet \n**Un viatge d’anada cap a l’eterna foscor **\n¿Què s’amaga darrere de les estrelles? El nostre univers\, vast i misteriós\, ens guarda secrets que desafien la nostra comprensió. Un d’aquests grans enigmes és l’energia fosca\, una força invisible que empeny el cosmos a expandir-se a un ritme cada vegada més accelerat. \nAcompanya’ns en aquest viatge fascinant de la mà de Cristian Moreno\, un expert en la matèria\, i descobreix: \n\nQuè és l’energia fosca i com afecta el nostre univers.\nLes teories més recents sobre la naturalesa d’aquesta força misteriosa.\nLes implicacions de l’energia fosca per al futur del cosmos.\n\nNo et perdis aquesta oportunitat única d’explorar els límits del coneixement! ✨ \nAPUNTAT AQUI!!
URL:https://www.sopadeparticulas.com/event/un-viatge-danada-cap-a-leterna-foscor-2/
LOCATION:Ateneo el Poblet\, carrer de Nàpols\, 268\, Barcelona\, Barcelona\, 08025\, España
CATEGORIES:Charlas.N
ATTACH;FMTTYPE=image/jpeg:https://www.sopadeparticulas.com/wp-content/uploads/2024/11/Un-viatge-danada-cap-a-leterna-foscor_1280x851.jpg
ORGANIZER;CN="Sopa de part%C3%ADculas":MAILTO:info@sopadeparticulas.com
END:VEVENT
BEGIN:VEVENT
DTSTART;TZID=UTC:20250319T190000
DTEND;TZID=UTC:20250319T210000
DTSTAMP:20260426T022210
CREATED:20241124T003432Z
LAST-MODIFIED:20241124T003432Z
UID:5151-1742410800-1742418000@www.sopadeparticulas.com
SUMMARY:Diseccionando al Xenomorfo de ALIEN
DESCRIPTION:¡Atención\, amantes de la ciencia ficción y la biología! \nFecha: ⚡ miércoles\, 19 de marzo de 2025 [19:00h⏰]\nLugar: Centre Cívic Guinardó.\nPonente: ¡La increíble Patricia «Angle» López!\nContexto: Actividad dentro del programa ConCiencia 8M del Centre Cívic de Guinardó. ConCiencia es una iniciativa para visibilizar a las mujeres en la ciencia. \nTítulo: Diseccionando al Xenomorfo de ALIEN: ¡En el espacio nadie puede oír tus gritos… pero nosotros sí te explicaremos todo! \n¿Siempre te has preguntado cómo era la biología de esas criaturas tan chungas de Alien? Pues prepárate para quedarte alucinando. Nuestra bióloga espacial\, Patricia «Angle» López\, nos llevará a un viaje alucinante por el ciclo de vida del Xenomorfo. \n¡Descubre: \n\nLos secretos más oscuros de su biología: ¿Cómo se reproduce? ¿Por qué es tan resistente? ¡Descubriremos todos sus trucos!\nEl impacto cultural de esta criatura icónica: ¿Por qué nos sigue dando tanto miedo? ¿Qué nos enseña sobre nuestros miedos?\nLa ciencia detrás de la ficción: ¿Qué hay de realidad en la biología del Xenomorfo?\nEl futuro de la biotecnología: ¿Podríamos crear criaturas tan increíbles como el Xenomorfo? ¡Quién sabe!\n\n¡Será una noche llena de sorpresas y diversión!\n¿Por qué venir? \n\nPorque eres un fan de Alien: ¡Por fin podrás entender a fondo a tus criaturas favoritas!\nPorque te gusta la ciencia: Descubrirás cómo la ciencia ficción puede inspirar la investigación real.\nPorque quieres conocer a una científica súper chula: Patricia «Angle» López te va a encantar.\nPorque quieres apoyar a las mujeres en la ciencia: ¡Visibilicemos a las científicas!\n\n¡No te lo pierdas! Las plazas son limitadas\, así que reserva ya.\n[Inscríbete aquí] \n#ConCiencia8M #CineYciencia #Alien #Biología #MujeresEnLaCiencia \n¡Te esperamos!
URL:https://www.sopadeparticulas.com/event/diseccionando-al-xenomorfo-de-alien/
LOCATION:Centre Cívic el Guinardó\, Ronda del Guinardó\, 113\, 08041 Barcelona\, Barcelona\, Barcelona\, 08041\, Espanya
CATEGORIES:Charlas.N
ATTACH;FMTTYPE=image/jpeg:https://www.sopadeparticulas.com/wp-content/uploads/2024/11/Diseccionando-al-Xenomorfo-de-ALIEN_1280x851.jpg
ORGANIZER;CN="Sopa de part%C3%ADculas":MAILTO:info@sopadeparticulas.com
END:VEVENT
BEGIN:VEVENT
DTSTART;TZID=UTC:20250507T190000
DTEND;TZID=UTC:20250507T203000
DTSTAMP:20260426T022210
CREATED:20250418T183111Z
LAST-MODIFIED:20250507T202826Z
UID:5169-1746644400-1746649800@www.sopadeparticulas.com
SUMMARY:La Promesa de la Teoria de Cordes: Descobrint els Secrets de l'Univers!
DESCRIPTION:🌟 La Promesa de la Teoria de Cordes: Descobrint els Secrets de l’Univers! 🌟🗓️ Data: 7 de Maig | 📍 No t’ho perdis! \nT’has preguntat mai què passaria si poguéssim combinar dues de les teories més importants de la ciència moderna? 🤯 La relativitat d’Einstein i la mecànica quàntica semblen dues peces d’un trencaclosques que no encaixen… però la teoria de cordes podria ser la solució màgica que ho canvia tot! 🪄✨ \nSegons aquesta teoria revolucionària\, les partícules més petites de l’univers no són simples punts\, sinó diminutes cordes vibrants 🎻 que ballen i ressonen per formar tota la realitat que ens envolta: la matèria\, l’energia\, la gravetat… tot! 🌌🌍 \nEn aquesta xerrada apassionant\, Dario López\, un estudiant inquiet i apassionat per la física moderna 🚀\, compartirà amb nosaltres la seva investigació sobre aquest tema fascinant\, basada en el seu Treball de Recerca 📚. Ens endinsarem en la història èpica de la física\, descobrint com les ments més brillants han lluitat per entendre els misteris de l’espai\, el temps i l’univers 🌠. \nExplorarem les idees més boges\, els reptes més grans i els somnis més ambiciosos de la ciència 🎯. Un viatge que ens farà volar la ment 💥 i ens deixarà amb ganes de saber-ne encara més! \nSi t’apassiona el misteri de l’Univers\, la física o simplement tens curiositat per descobrir com podria funcionar realment tot el que existeix… aquesta és la teva oportunitat! 🔥✨ \nT’hi esperem! Viu una experiència que pot canviar la teva manera de veure el món! 🌍💫 \nAQUÍ per poder-se apuntar.
URL:https://www.sopadeparticulas.com/event/la-promesa-de-la-teoria-de-cordes-descobrint-els-secrets-de-lunivers/
LOCATION:Centre Cívic el Guinardó\, Ronda del Guinardó\, 113\, 08041 Barcelona\, Barcelona\, Barcelona\, 08041\, Espanya
CATEGORIES:Charlas.O
ATTACH;FMTTYPE=image/jpeg:https://www.sopadeparticulas.com/wp-content/uploads/2025/04/7mayo25_1280_853.jpg
ORGANIZER;CN="Sopa de part%C3%ADculas":MAILTO:info@sopadeparticulas.com
END:VEVENT
BEGIN:VEVENT
DTSTART;TZID=UTC:20250514T190000
DTEND;TZID=UTC:20250514T203000
DTSTAMP:20260426T022210
CREATED:20250418T182545Z
LAST-MODIFIED:20250516T204605Z
UID:5162-1747249200-1747254600@www.sopadeparticulas.com
SUMMARY:Descobrint la Fotònica: La Ciència de la Llum que Està Canviant el Món!
DESCRIPTION:🔦 Descobrint la Fotònica: La Ciència de la Llum que Està Canviant el Món! 🌍✨🗓️ Data: 14 de maig | 📍 No t’ho pots perdre! \nT’imagines un món sense llum? 🌑 Difícil\, oi? Ara imagina’t poder manipular la llum per transformar la nostra manera de viure\, comunicar-nos i curar malalties! 🚀 Això és exactament el que fa la fotònica\, una branca apassionant de la física que estudia la llum i les seves infinites aplicacions tecnològiques. 🔬🌈 \nDes dels potents làsers que utilitzem en cirurgia ocular 👁️\, fins a les velocíssimes comunicacions per fibra òptica que connecten el món 🌐… la fotònica està revolucionant cada racó de les nostres vides! 📡💥 \nEn aquesta xerrada inspiradora\, la Dra. Laura Zarraoa —una gran experta i apassionada per la ciència de la llum— ens obrirà les portes 🚪 a aquest univers brillant i fascinant. Ens explicarà com\, gràcies a la manipulació de la llum\, podem impulsar avenços espectaculars en la medicina 🏥\, la indústria 🏭 i la computació del futur 🧠💻. \nAprendrem com la llum no només il·lumina\, sinó que també pot curar\, transmetre informació a la velocitat de la llum ⚡ i ajudar-nos a construir tecnologies que fins fa poc només existien a la ciència-ficció 🚀🔮. \nNo deixis escapar aquesta oportunitat!Vine a descobrir com la ciència de la llum està modelant el futur davant els nostres ulls 👀✨ i deixa’t captivar pel poder invisible que ho transforma tot. 🌟🌟 \nAPUNTAT AQUÍ
URL:https://www.sopadeparticulas.com/event/%f0%9f%94%a6-descobrint-la-fotonica-la-ciencia-de-la-llum-que-esta-canviant-el-mon-%f0%9f%8c%8d%e2%9c%a8/
LOCATION:Centre Cívic el Guinardó\, Ronda del Guinardó\, 113\, 08041 Barcelona\, Barcelona\, Barcelona\, 08041\, Espanya
CATEGORIES:Charlas.O
ATTACH;FMTTYPE=image/jpeg:https://www.sopadeparticulas.com/wp-content/uploads/2025/04/may31_1280_853.jpg
ORGANIZER;CN="Sopa de part%C3%ADculas":MAILTO:info@sopadeparticulas.com
END:VEVENT
BEGIN:VEVENT
DTSTART;TZID=UTC:20250604T190000
DTEND;TZID=UTC:20250604T203000
DTSTAMP:20260426T022210
CREATED:20250418T182837Z
LAST-MODIFIED:20250418T182837Z
UID:5166-1749063600-1749069000@www.sopadeparticulas.com
SUMMARY:Club de Lectura: "Relativitat sense Fórmules" — Una Aventura pel Temps i l'Espai!
DESCRIPTION:📚 Club de Lectura: «Relativitat sense Fórmules» — Una Aventura pel Temps i l’Espai! 🚀🗓️ Data: 4 de Juny | 📍 No t’ho pots perdre! \nT’agradaria entendre la teoria de la relativitat d’Einstein sense haver de lluitar amb fórmules complicades? 🔍💡 Doncs tenim la proposta perfecta per a tu! En el nostre proper Club de Lectura\, ens endinsarem en «Relativitat sense Fórmules»\, una sèrie d’articles apassionants escrita per Pedro Gómez-Esteban i publicada a la plataforma El Tamiz 🌟. \nA través de deu capítols vibrants 📖\, aquesta obra ens guia\, pas a pas\, per la Teoria Especial de la Relativitat. A partir de només dos supòsits senzills d’Einstein\, veurem com es desplega tota una nova visió de l’Univers 🧠✨. Parlarem de conceptes fascinants com la dilatació del temps ⏳\, la relativitat de la simultaneïtat 🕰️ i la contracció de la longitud 📏 — tot d’una manera intuïtiva i sense tecnicismes! \nEn aquesta trobada especial\, Maria Regaña i Saül Pascual-Díaz ens acompanyaran com a guies 🚀\, desxifrant les idees clau del llibre i obrint la porta a una nova manera d’entendre el món. 🛸 Una lectura que canviarà per sempre la teva manera de concebre l’espai i el temps! \nA més\, l’activitat serà totalment participativa 🤝: organitzarem una taula rodona on tots podrem debatre\, compartir impressions i resoldre dubtes en un ambient proper i inspirador. 🎤 Per això\, recomanem que hagis llegit el llibre o\, com a mínim\, tinguis curiositat per explorar aquests conceptes revolucionaris! 🚀 \nVine a viure una experiència única! Descobreix com\, de la mà d’Einstein\, la realitat es fa més màgica i sorprenent del que mai hauries imaginat. 🌌✨ \nAPUNTAT AQUÍ
URL:https://www.sopadeparticulas.com/event/club-de-lectura-relativitat-sense-formules-una-aventura-pel-temps-i-lespai/
LOCATION:Centre Cívic el Guinardó\, Ronda del Guinardó\, 113\, 08041 Barcelona\, Barcelona\, Barcelona\, 08041\, Espanya
CATEGORIES:Charlas.N
ATTACH;FMTTYPE=image/jpeg:https://www.sopadeparticulas.com/wp-content/uploads/2025/04/4JUNY25-_1280_853.jpg
ORGANIZER;CN="Sopa de part%C3%ADculas":MAILTO:info@sopadeparticulas.com
END:VEVENT
BEGIN:VEVENT
DTSTART;TZID=UTC:20260325T190000
DTEND;TZID=UTC:20260325T200000
DTSTAMP:20260426T022210
CREATED:20260319T203150Z
LAST-MODIFIED:20260326T075958Z
UID:5179-1774465200-1774468800@www.sopadeparticulas.com
SUMMARY:Forats Negres: Un viatge a allò desconegut
DESCRIPTION:T’has preguntat mai què passa quan la realitat es trenca?\nEls forats negres no són només objectes astronòmics; són els llocs on les lleis de la física\, tal com les coneixem\, deixen de tenir sentit.\nImagineu una regió de l’espai on la gravetat és tan voraç que ni tan sols la llum —el més ràpid de l’univers— és capaç de fugir de les seves urpes.\nUn cop es creua l’anomenat horitzó de successos\, el camí no té retorn. En aquesta xerrada\, explorarem com aquests monstres invisibles són capaços de deformar el temps i l’espai\, viatjant des de les primeres teories d’Einstein fins a les fascinants imatges reals que hem obtingut recentment.\nNo et perdis aquest recorregut històric i científic pel fenomen més fascinant\, misteriós i extrem de tot el cosmos. L’univers té secrets que et deixaran sense alè. T’atreveixes a mirar dins l’abisme? \nPonent: L’Ángel Jesús Murcia Gil és doctor en Física Teòrica per la Universidad Autónoma de Madrid\, amb menció internacional i diversos premis acadèmics destacats. Ha desenvolupat la seva recerca en institucions com l’Istituto Nazionale di Fisica Nucleare (Itàlia) i actualment és investigador a la Universitat de Barcelona. La seva investigació se centra en l’estudi dels forats negres i les correccions de curvatura en teoria de la gravetat. \nIdioma: la xerrada es realitzarà en castellà. \nAPUNTAT AQUI
URL:https://www.sopadeparticulas.com/event/%f0%9f%95%b3%ef%b8%8f-descobrint-els-forats-negres-el-misteri-mes-gran-de-lunivers-%f0%9f%8c%8c-%e2%9c%a8/
LOCATION:Ateneo el Poblet\, carrer de Nàpols\, 268\, Barcelona\, Barcelona\, 08025\, España
CATEGORIES:Charlas.O
ATTACH;FMTTYPE=image/jpeg:https://www.sopadeparticulas.com/wp-content/uploads/2026/03/mar26_1280x853.jpg
END:VEVENT
END:VCALENDAR